BEGIN:VCALENDAR
VERSION:2.0
PRODID:-//ASAC-VTT - ECPv6.15.20//NONSGML v1.0//EN
CALSCALE:GREGORIAN
METHOD:PUBLISH
X-ORIGINAL-URL:https://vtt.asac-tregor.fr
X-WR-CALDESC:Évènements pour ASAC-VTT
REFRESH-INTERVAL;VALUE=DURATION:PT1H
X-Robots-Tag:noindex
X-PUBLISHED-TTL:PT1H
BEGIN:VTIMEZONE
TZID:Europe/Paris
BEGIN:DAYLIGHT
TZOFFSETFROM:+0100
TZOFFSETTO:+0200
TZNAME:CEST
DTSTART:20250330T010000
END:DAYLIGHT
BEGIN:STANDARD
TZOFFSETFROM:+0200
TZOFFSETTO:+0100
TZNAME:CET
DTSTART:20251026T010000
END:STANDARD
BEGIN:DAYLIGHT
TZOFFSETFROM:+0100
TZOFFSETTO:+0200
TZNAME:CEST
DTSTART:20260329T010000
END:DAYLIGHT
BEGIN:STANDARD
TZOFFSETFROM:+0200
TZOFFSETTO:+0100
TZNAME:CET
DTSTART:20261025T010000
END:STANDARD
BEGIN:DAYLIGHT
TZOFFSETFROM:+0100
TZOFFSETTO:+0200
TZNAME:CEST
DTSTART:20270328T010000
END:DAYLIGHT
BEGIN:STANDARD
TZOFFSETFROM:+0200
TZOFFSETTO:+0100
TZNAME:CET
DTSTART:20271031T010000
END:STANDARD
END:VTIMEZONE
BEGIN:VEVENT
DTSTART;TZID=Europe/Paris:20260909T173000
DTEND;TZID=Europe/Paris:20260909T193000
DTSTAMP:20260419T215849
CREATED:20250908T125605Z
LAST-MODIFIED:20260310T151242Z
UID:323-1788975000-1788982200@vtt.asac-tregor.fr
SUMMARY:Perros
DESCRIPTION:GPX Gr1\nGPX Gr2 \nRDV petit parking devant Craquanterie
URL:https://vtt.asac-tregor.fr/index.php/event/perros/
CATEGORIES:2026,mercredi
END:VEVENT
END:VCALENDAR